BEGIN:VCALENDAR
VERSION:2.0
PRODID:-//BijnierNET - ECPv6.15.20//NONSGML v1.0//EN
CALSCALE:GREGORIAN
METHOD:PUBLISH
X-ORIGINAL-URL:https://www.bijniernet.nl
X-WR-CALDESC:Evenementen voor BijnierNET
REFRESH-INTERVAL;VALUE=DURATION:PT1H
X-Robots-Tag:noindex
X-PUBLISHED-TTL:PT1H
BEGIN:VTIMEZONE
TZID:Europe/Amsterdam
BEGIN:DAYLIGHT
TZOFFSETFROM:+0100
TZOFFSETTO:+0200
TZNAME:CEST
DTSTART:20180325T010000
END:DAYLIGHT
BEGIN:STANDARD
TZOFFSETFROM:+0200
TZOFFSETTO:+0100
TZNAME:CET
DTSTART:20181028T010000
END:STANDARD
BEGIN:DAYLIGHT
TZOFFSETFROM:+0100
TZOFFSETTO:+0200
TZNAME:CEST
DTSTART:20190331T010000
END:DAYLIGHT
BEGIN:STANDARD
TZOFFSETFROM:+0200
TZOFFSETTO:+0100
TZNAME:CET
DTSTART:20191027T010000
END:STANDARD
BEGIN:DAYLIGHT
TZOFFSETFROM:+0100
TZOFFSETTO:+0200
TZNAME:CEST
DTSTART:20200329T010000
END:DAYLIGHT
BEGIN:STANDARD
TZOFFSETFROM:+0200
TZOFFSETTO:+0100
TZNAME:CET
DTSTART:20201025T010000
END:STANDARD
BEGIN:DAYLIGHT
TZOFFSETFROM:+0100
TZOFFSETTO:+0200
TZNAME:CEST
DTSTART:20210328T010000
END:DAYLIGHT
BEGIN:STANDARD
TZOFFSETFROM:+0200
TZOFFSETTO:+0100
TZNAME:CET
DTSTART:20211031T010000
END:STANDARD
END:VTIMEZONE
BEGIN:VEVENT
DTSTART;TZID=Europe/Amsterdam:20190412T080000
DTEND;TZID=Europe/Amsterdam:20190412T170000
DTSTAMP:20260425T154727
CREATED:20190124T142633Z
LAST-MODIFIED:20190212T115811Z
UID:11026-1555056000-1555088400@www.bijniernet.nl
SUMMARY:12/04 Cursus voor verpleegkundigen en verpleegkundig specialisten over bijnierschorsinsufficiëntie
DESCRIPTION:Verpleegkundigen en verpleegkundig specialisten die zich verder willen bekwamen in de zorg voor mensen met bijnierinsufficiëntie is er de mogelijkheid mee te doen aan een cursus op 12 april 2019. Ter voorbereiding op de dag wordt zelfstudie verwacht van het doorlopen van vier e-learning modules. \nAanmelding is noodzakelijk.
URL:https://www.bijniernet.nl/agenda/12-04-cursus-voor-verpleegkundigen-en-verpleegkundig-specialisten-over-bijnierschorsinsufficientie/
LOCATION:Radboudumc\, Geert Grooteplein Zuid 10\, Nijmegen\, 6525 GA\, Nederland
CATEGORIES:Training
ATTACH;FMTTYPE=image/png:https://www.bijniernet.nl/wp-content/uploads/2016/01/Afsluiter.png
END:VEVENT
BEGIN:VEVENT
DTSTART;TZID=Europe/Amsterdam:20190621T093000
DTEND;TZID=Europe/Amsterdam:20190621T170000
DTSTAMP:20260425T154727
CREATED:20190205T153429Z
LAST-MODIFIED:20190205T153528Z
UID:11183-1561109400-1561136400@www.bijniernet.nl
SUMMARY:21/06 Training over bijnierschorsinsufficiëntie voor verpleegkundigen en verpleegkundig specialisten
DESCRIPTION:Verpleegkundigen en verpleegkundig specialisten die zich verder willen bekwamen in de zorg voor mensen met bijnierinsufficiëntie is er de mogelijkheid mee te doen aan een cursus op 21 juni 2019. Ter voorbereiding op de dag wordt zelfstudie verwacht van het doorlopen van vier e-learning modules. Aanmelding is noodzakelijk.
URL:https://www.bijniernet.nl/agenda/21-06-training-over-bijnierschorsinsufficientie-voor-verpleegkundigen-en-verpleegkundig-specialisten/
LOCATION:Erasmus MC\, Doctor Molewaterplein 40\, Rotterdam\, 3015 GD
CATEGORIES:Training
ATTACH;FMTTYPE=image/png:https://www.bijniernet.nl/wp-content/uploads/2016/01/Afsluiter.png
END:VEVENT
BEGIN:VEVENT
DTSTART;TZID=Europe/Amsterdam:20190703T080000
DTEND;TZID=Europe/Amsterdam:20190703T170000
DTSTAMP:20260425T154727
CREATED:20190429T132606Z
LAST-MODIFIED:20190429T132606Z
UID:11716-1562140800-1562173200@www.bijniernet.nl
SUMMARY:3/7 Training bijnierschorsinsufficiëntie voor verpleegkundigen (in company)
DESCRIPTION:Voor verpleegkundigen en verpleegkundig specialisten werkzaam in het AvL wordt een speciale training aangeboden over bijnierschorsinsufficiëntie. Mensen die immuuntherapie ondergaan lopen nogal eens schildklier- of bijnierproblemen op. \nBijnierNET biedt deze training in samenwerking met het UMC Utrecht aan.
URL:https://www.bijniernet.nl/agenda/3-7-training-bijnierschorsinsufficientie-voor-verpleegkundigen-in-company/
CATEGORIES:Training
ATTACH;FMTTYPE=image/png:https://www.bijniernet.nl/wp-content/uploads/2016/01/Afsluiter.png
END:VEVENT
BEGIN:VEVENT
DTSTART;TZID=Europe/Amsterdam:20190905T093000
DTEND;TZID=Europe/Amsterdam:20190905T170000
DTSTAMP:20260425T154727
CREATED:20190205T153156Z
LAST-MODIFIED:20190205T153557Z
UID:11181-1567675800-1567702800@www.bijniernet.nl
SUMMARY:05/09 Training over bijnierschorsinsufficiëntie voor verpleegkundigen en verpleegkundig specialisten
DESCRIPTION:Verpleegkundigen en verpleegkundig specialisten die zich verder willen bekwamen in de zorg voor mensen met bijnierinsufficiëntie is er de mogelijkheid mee te doen aan een cursus op donderdag 5 september 2019. Ter voorbereiding op de dag wordt zelfstudie verwacht van het doorlopen van vier e-learning modules. Aanmelding is noodzakelijk.
URL:https://www.bijniernet.nl/agenda/05-09-training-over-bijnierschorsinsufficientie-voor-verpleegkundigen-en-verpleegkundig-specialisten/
LOCATION:UMC Utrecht\, Nederland
CATEGORIES:Training
ATTACH;FMTTYPE=image/png:https://www.bijniernet.nl/wp-content/uploads/2016/01/Afsluiter.png
END:VEVENT
BEGIN:VEVENT
DTSTART;TZID=Europe/Amsterdam:20200205T080000
DTEND;TZID=Europe/Amsterdam:20200205T170000
DTSTAMP:20260425T154727
CREATED:20200116T130015Z
LAST-MODIFIED:20200116T130015Z
UID:13067-1580889600-1580922000@www.bijniernet.nl
SUMMARY:5/2 - Incompany training Bijnierschorsinsufficiëntie en kanker
DESCRIPTION:Training voor verpleegkundigen en verpleegkundig specialisten werkzaam bij het Antoni van Leeuwenhoek ziekenhuis in Amsterdam
URL:https://www.bijniernet.nl/agenda/5-2-incompany-training-bijnierschorsinsufficientie-en-kanker/
CATEGORIES:Training
ATTACH;FMTTYPE=image/png:https://www.bijniernet.nl/wp-content/uploads/2016/01/Afsluiter.png
END:VEVENT
BEGIN:VEVENT
DTSTART;TZID=Europe/Amsterdam:20200312T080000
DTEND;TZID=Europe/Amsterdam:20200312T170000
DTSTAMP:20260425T154727
CREATED:20200116T130506Z
LAST-MODIFIED:20200116T130506Z
UID:13070-1584000000-1584032400@www.bijniernet.nl
SUMMARY:12/3  Basiscursus over bijnier- en hypofyseaandoeningen
DESCRIPTION:Incompany training aan apothekersassistenten van ADD apotheek over bijnier- en hypofyse-aandoeningen.
URL:https://www.bijniernet.nl/agenda/12-3-basiscursus-over-bijnier-en-hypofyseaandoeningen/
CATEGORIES:Training
ATTACH;FMTTYPE=image/png:https://www.bijniernet.nl/wp-content/uploads/2016/01/Afsluiter.png
END:VEVENT
END:VCALENDAR