BEGIN:VCALENDAR
VERSION:2.0
PRODID:-//BijnierNET - ECPv6.15.20//NONSGML v1.0//EN
CALSCALE:GREGORIAN
METHOD:PUBLISH
X-ORIGINAL-URL:https://www.bijniernet.nl
X-WR-CALDESC:Evenementen voor BijnierNET
REFRESH-INTERVAL;VALUE=DURATION:PT1H
X-Robots-Tag:noindex
X-PUBLISHED-TTL:PT1H
BEGIN:VTIMEZONE
TZID:Europe/Amsterdam
BEGIN:DAYLIGHT
TZOFFSETFROM:+0100
TZOFFSETTO:+0200
TZNAME:CEST
DTSTART:20140330T010000
END:DAYLIGHT
BEGIN:STANDARD
TZOFFSETFROM:+0200
TZOFFSETTO:+0100
TZNAME:CET
DTSTART:20141026T010000
END:STANDARD
BEGIN:DAYLIGHT
TZOFFSETFROM:+0100
TZOFFSETTO:+0200
TZNAME:CEST
DTSTART:20150329T010000
END:DAYLIGHT
BEGIN:STANDARD
TZOFFSETFROM:+0200
TZOFFSETTO:+0100
TZNAME:CET
DTSTART:20151025T010000
END:STANDARD
BEGIN:DAYLIGHT
TZOFFSETFROM:+0100
TZOFFSETTO:+0200
TZNAME:CEST
DTSTART:20160327T010000
END:DAYLIGHT
BEGIN:STANDARD
TZOFFSETFROM:+0200
TZOFFSETTO:+0100
TZNAME:CET
DTSTART:20161030T010000
END:STANDARD
BEGIN:DAYLIGHT
TZOFFSETFROM:+0100
TZOFFSETTO:+0200
TZNAME:CEST
DTSTART:20170326T010000
END:DAYLIGHT
BEGIN:STANDARD
TZOFFSETFROM:+0200
TZOFFSETTO:+0100
TZNAME:CET
DTSTART:20171029T010000
END:STANDARD
BEGIN:DAYLIGHT
TZOFFSETFROM:+0100
TZOFFSETTO:+0200
TZNAME:CEST
DTSTART:20180325T010000
END:DAYLIGHT
BEGIN:STANDARD
TZOFFSETFROM:+0200
TZOFFSETTO:+0100
TZNAME:CET
DTSTART:20181028T010000
END:STANDARD
BEGIN:DAYLIGHT
TZOFFSETFROM:+0100
TZOFFSETTO:+0200
TZNAME:CEST
DTSTART:20190331T010000
END:DAYLIGHT
BEGIN:STANDARD
TZOFFSETFROM:+0200
TZOFFSETTO:+0100
TZNAME:CET
DTSTART:20191027T010000
END:STANDARD
BEGIN:DAYLIGHT
TZOFFSETFROM:+0100
TZOFFSETTO:+0200
TZNAME:CEST
DTSTART:20200329T010000
END:DAYLIGHT
BEGIN:STANDARD
TZOFFSETFROM:+0200
TZOFFSETTO:+0100
TZNAME:CET
DTSTART:20201025T010000
END:STANDARD
BEGIN:DAYLIGHT
TZOFFSETFROM:+0100
TZOFFSETTO:+0200
TZNAME:CEST
DTSTART:20210328T010000
END:DAYLIGHT
BEGIN:STANDARD
TZOFFSETFROM:+0200
TZOFFSETTO:+0100
TZNAME:CET
DTSTART:20211031T010000
END:STANDARD
BEGIN:DAYLIGHT
TZOFFSETFROM:+0100
TZOFFSETTO:+0200
TZNAME:CEST
DTSTART:20220327T010000
END:DAYLIGHT
BEGIN:STANDARD
TZOFFSETFROM:+0200
TZOFFSETTO:+0100
TZNAME:CET
DTSTART:20221030T010000
END:STANDARD
BEGIN:DAYLIGHT
TZOFFSETFROM:+0100
TZOFFSETTO:+0200
TZNAME:CEST
DTSTART:20230326T010000
END:DAYLIGHT
BEGIN:STANDARD
TZOFFSETFROM:+0200
TZOFFSETTO:+0100
TZNAME:CET
DTSTART:20231029T010000
END:STANDARD
BEGIN:DAYLIGHT
TZOFFSETFROM:+0100
TZOFFSETTO:+0200
TZNAME:CEST
DTSTART:20240331T010000
END:DAYLIGHT
BEGIN:STANDARD
TZOFFSETFROM:+0200
TZOFFSETTO:+0100
TZNAME:CET
DTSTART:20241027T010000
END:STANDARD
BEGIN:DAYLIGHT
TZOFFSETFROM:+0100
TZOFFSETTO:+0200
TZNAME:CEST
DTSTART:20250330T010000
END:DAYLIGHT
BEGIN:STANDARD
TZOFFSETFROM:+0200
TZOFFSETTO:+0100
TZNAME:CET
DTSTART:20251026T010000
END:STANDARD
BEGIN:DAYLIGHT
TZOFFSETFROM:+0100
TZOFFSETTO:+0200
TZNAME:CEST
DTSTART:20260329T010000
END:DAYLIGHT
BEGIN:STANDARD
TZOFFSETFROM:+0200
TZOFFSETTO:+0100
TZNAME:CET
DTSTART:20261025T010000
END:STANDARD
END:VTIMEZONE
BEGIN:VEVENT
DTSTART;TZID=Europe/Amsterdam:20251113T080000
DTEND;TZID=Europe/Amsterdam:20251115T170000
DTSTAMP:20260422T192626
CREATED:20241203T102125Z
LAST-MODIFIED:20241203T102139Z
UID:17786-1763020800-1763226000@www.bijniernet.nl
SUMMARY:JA-PED 2025
DESCRIPTION:Duitse jaarcongres voor kinderendocrinologen en kinderdiabetologen.
URL:https://www.bijniernet.nl/agenda/ja-ped-2025/
LOCATION:Leipzig
CATEGORIES:Congres,Europa,Evenementen
ATTACH;FMTTYPE=image/png:https://www.bijniernet.nl/wp-content/uploads/2024/12/Logo_JAPED25_LR_191120242-1024x256-1.png
END:VEVENT
BEGIN:VEVENT
DTSTART;VALUE=DATE:20241116
DTEND;VALUE=DATE:20241119
DTSTAMP:20260422T192626
CREATED:20240219T164454Z
LAST-MODIFIED:20240219T164454Z
UID:17290-1731715200-1731974399@www.bijniernet.nl
SUMMARY:ESPE 2024
DESCRIPTION:
URL:https://www.bijniernet.nl/agenda/espe-2024/
LOCATION:Liverpool
CATEGORIES:Europa
ATTACH;FMTTYPE=image/png:https://www.bijniernet.nl/wp-content/uploads/2024/02/Scherm­afbeelding-2024-02-19-om-17.42.07.png
END:VEVENT
BEGIN:VEVENT
DTSTART;TZID=Europe/Amsterdam:20210201T080000
DTEND;TZID=Europe/Amsterdam:20210201T170000
DTSTAMP:20260422T192626
CREATED:20210201T150743Z
LAST-MODIFIED:20210201T165740Z
UID:14679-1612166400-1612198800@www.bijniernet.nl
SUMMARY:28/02 - Rare Disease Day 2021
DESCRIPTION:Zeldzame ziektendag is een dag waarop aandacht wordt gevraagd voor zeldzame ziekten\, die vaak erfelijk\, chronisch\, progressief en meestal levensbedreigend zijn. Het is een internationale dag met veel samenwerkende mensen. Denk aan: beleidsmakers\, onderzoekers\, zorgprofessionals\, het algemeen publiek\, vertegenwoordigers uit de industrie. Kortom: iedereen die zich betrokken voelt bij zeldzame aandoeningen. \nMeer info op de website \n  \n 
URL:https://www.bijniernet.nl/agenda/28-02-rare-disease-day/
CATEGORIES:Europa,Evenementen
ATTACH;FMTTYPE=image/png:https://www.bijniernet.nl/wp-content/uploads/2016/01/Afsluiter.png
END:VEVENT
BEGIN:VEVENT
DTSTART;TZID=Europe/Amsterdam:20201030T090000
DTEND;TZID=Europe/Amsterdam:20201031T120000
DTSTAMP:20260422T192626
CREATED:20190812T141650Z
LAST-MODIFIED:20191031T124910Z
UID:12158-1604048400-1604145600@www.bijniernet.nl
SUMMARY:30/10 - 31/10 ESPE Science symposium
DESCRIPTION:
URL:https://www.bijniernet.nl/agenda/30-10-31-10-espe-science-symposium/
LOCATION:Radboudumc\, Geert Grooteplein Zuid 10\, Nijmegen\, 6525 GA\, Nederland
CATEGORIES:Europa
ATTACH;FMTTYPE=image/png:https://www.bijniernet.nl/wp-content/uploads/2016/01/Afsluiter.png
END:VEVENT
BEGIN:VEVENT
DTSTART;TZID=Europe/Amsterdam:20200523T080000
DTEND;TZID=Europe/Amsterdam:20200526T170000
DTSTAMP:20260422T192626
CREATED:20180605T201415Z
LAST-MODIFIED:20180605T203246Z
UID:9332-1590220800-1590512400@www.bijniernet.nl
SUMMARY:23-26/05 - ECE 2020
DESCRIPTION:Jaarlijks congres
URL:https://www.bijniernet.nl/agenda/23-26-05-ece-2020/
LOCATION:Praag
CATEGORIES:Europa,Evenementen
ATTACH;FMTTYPE=image/png:https://www.bijniernet.nl/wp-content/uploads/2016/01/Afsluiter.png
END:VEVENT
BEGIN:VEVENT
DTSTART;TZID=Europe/Amsterdam:20190919T080000
DTEND;TZID=Europe/Amsterdam:20190921T170000
DTSTAMP:20260422T192626
CREATED:20181105T120909Z
LAST-MODIFIED:20181105T120909Z
UID:10022-1568880000-1569085200@www.bijniernet.nl
SUMMARY:ESPE 2019
DESCRIPTION:De 58e jaarlijkse ESPE bijeenkomst wordt gehouden van 19 tot en met 21 september in Wenen\, Oostenrijk. 
URL:https://www.bijniernet.nl/agenda/espe-2019/
LOCATION:Wenen
CATEGORIES:Congres,Europa,Evenementen
ATTACH;FMTTYPE=image/png:https://www.bijniernet.nl/wp-content/uploads/2018/11/Schermafbeelding-2018-11-05-om-13.08.06.png
END:VEVENT
BEGIN:VEVENT
DTSTART;TZID=Europe/Amsterdam:20190518T080000
DTEND;TZID=Europe/Amsterdam:20190521T170000
DTSTAMP:20260422T192626
CREATED:20180605T190718Z
LAST-MODIFIED:20180605T190718Z
UID:9325-1558166400-1558458000@www.bijniernet.nl
SUMMARY:18 - 21/05 ECE 2019
DESCRIPTION:Jaarlijks congres
URL:https://www.bijniernet.nl/agenda/18-21-05-ece-2019/
LOCATION:Lyon
CATEGORIES:Europa,Evenementen
ATTACH;FMTTYPE=image/png:https://www.bijniernet.nl/wp-content/uploads/2016/01/Afsluiter.png
END:VEVENT
BEGIN:VEVENT
DTSTART;TZID=Europe/Amsterdam:20180222T080000
DTEND;TZID=Europe/Amsterdam:20180222T170000
DTSTAMP:20260422T192626
CREATED:20170725T072144Z
LAST-MODIFIED:20170725T072216Z
UID:7297-1519286400-1519318800@www.bijniernet.nl
SUMMARY:22/02 Endo-ERN General Assembly
DESCRIPTION:De tweede bijeenkomst van de ENDO-ERN wordt gehouden in Lübeck in Duitsland.
URL:https://www.bijniernet.nl/agenda/2202-endo-ern-general-assembly/
CATEGORIES:Europa,Evenementen
ATTACH;FMTTYPE=image/png:https://www.bijniernet.nl/wp-content/uploads/2016/01/Afsluiter.png
END:VEVENT
BEGIN:VEVENT
DTSTART;VALUE=DATE:20170520
DTEND;VALUE=DATE:20170524
DTSTAMP:20260422T192626
CREATED:20160602T064531Z
LAST-MODIFIED:20160602T064531Z
UID:3437-1495238400-1495583999@www.bijniernet.nl
SUMMARY:20-23/5 - 19th European Congress of Endocrinology
DESCRIPTION:Het jaarlijkse  Europese congres voor endocrinologie. Het doel is kennis te delen om de het onderzoek te verbeteren en de zorg voor mensen met bijnierziekten.
URL:https://www.bijniernet.nl/agenda/20-235-19th-european-congress-endocrinology/
LOCATION:Onbenoemde locatie\, Lissabon\, Portugal
CATEGORIES:Congres,Europa
ATTACH;FMTTYPE=image/png:https://www.bijniernet.nl/wp-content/uploads/2016/01/Afsluiter.png
ORGANIZER;CN="Naamloos Organisator":MAILTO:ece2017@endocrinology.org
END:VEVENT
BEGIN:VEVENT
DTSTART;VALUE=DATE:20160910
DTEND;VALUE=DATE:20160913
DTSTAMP:20260422T192626
CREATED:20160505T123908Z
LAST-MODIFIED:20160615T091011Z
UID:3273-1473465600-1473724799@www.bijniernet.nl
SUMMARY:10-12/09 - Europees congres voor kinderendocrinologen  (ESPE)
DESCRIPTION:10-12 september 2016\, Parijs\, Frankrijk\nEuropees congres voor kinderendocrinologen  (ESPE) – www.espe2016.org
URL:https://www.bijniernet.nl/agenda/10-12-september-2016/
LOCATION:Onbenoemde locatie\, Parijs\, Frankrijk
CATEGORIES:Congres,Europa,Evenementen
ATTACH;FMTTYPE=image/png:https://www.bijniernet.nl/wp-content/uploads/2016/01/Afsluiter.png
END:VEVENT
BEGIN:VEVENT
DTSTART;VALUE=DATE:20160528
DTEND;VALUE=DATE:20160601
DTSTAMP:20260422T192626
CREATED:20160408T072736Z
LAST-MODIFIED:20160615T091059Z
UID:2816-1464393600-1464739199@www.bijniernet.nl
SUMMARY:28–31/06\, Europees Endocrinologie congres Munchen Duitsland ECE2016 -
DESCRIPTION:Het jaarlijkse congres voor endocrinologen in Europa.
URL:https://www.bijniernet.nl/agenda/ece2016-congres/
LOCATION:Meeting & Event Management AG\, Landbergerstrasse 155\, Lunchen\, 80687\, Duitsland
CATEGORIES:Congres,Europa
ATTACH;FMTTYPE=image/png:https://www.bijniernet.nl/wp-content/uploads/2016/01/Afsluiter.png
END:VEVENT
BEGIN:VEVENT
DTSTART;VALUE=DATE:20151024
DTEND;VALUE=DATE:20151025
DTSTAMP:20260422T192626
CREATED:20151023T220000Z
LAST-MODIFIED:20160129T080324Z
UID:890-1445644800-1445731199@www.bijniernet.nl
SUMMARY:24/10 Belgian Endocrine Society
DESCRIPTION:Presentatie over preventie van Addison-crises en de rol van  BijnierNET door Prof. dr. Ad Hermus.
URL:https://www.bijniernet.nl/agenda/belgian-endocrine-society/
LOCATION:Ramada Hotel\, Desguinlei 94\, Antwerpen\, België
CATEGORIES:Europa
ATTACH;FMTTYPE=image/png:https://www.bijniernet.nl/wp-content/uploads/2016/01/Afsluiter.png
END:VEVENT
BEGIN:VEVENT
DTSTART;VALUE=DATE:20150930
DTEND;VALUE=DATE:20151003
DTSTAMP:20260422T192626
CREATED:20150929T220000Z
LAST-MODIFIED:20160129T080348Z
UID:887-1443571200-1443830399@www.bijniernet.nl
SUMMARY:30/09 European Health Forum Gastein
DESCRIPTION:Presentatie over zelfmanagement van patienten met bijnierziekten en de rol van BijnierNET door Johan Beun.
URL:https://www.bijniernet.nl/agenda/european-health-forum-gastein/
LOCATION:International Forum Gastein (IFG)\, Tauernplatz 1\, Hofgastein\, 5630\, Oostenrijk
CATEGORIES:Europa
ATTACH;FMTTYPE=image/png:https://www.bijniernet.nl/wp-content/uploads/2016/01/Afsluiter.png
END:VEVENT
BEGIN:VEVENT
DTSTART;VALUE=DATE:20150425
DTEND;VALUE=DATE:20150426
DTSTAMP:20260422T192626
CREATED:20150424T220000Z
LAST-MODIFIED:20160129T080530Z
UID:707-1429920000-1430006399@www.bijniernet.nl
SUMMARY:Addison Foreningen I Denemarken
DESCRIPTION:BijnierNET presenteert zich in het kader van de internationale samenwerking bij de Addison Foreningen I Denemarken
URL:https://www.bijniernet.nl/agenda/addison-foreningen-i-denemarken/
CATEGORIES:Europa,Evenementen
ATTACH;FMTTYPE=image/png:https://www.bijniernet.nl/wp-content/uploads/2016/01/Afsluiter.png
END:VEVENT
END:VCALENDAR