BEGIN:VCALENDAR
VERSION:2.0
PRODID:-//BijnierNET - ECPv6.15.20//NONSGML v1.0//EN
CALSCALE:GREGORIAN
METHOD:PUBLISH
X-WR-CALNAME:BijnierNET
X-ORIGINAL-URL:https://www.bijniernet.nl
X-WR-CALDESC:Evenementen voor BijnierNET
REFRESH-INTERVAL;VALUE=DURATION:PT1H
X-Robots-Tag:noindex
X-PUBLISHED-TTL:PT1H
BEGIN:VTIMEZONE
TZID:Europe/Amsterdam
BEGIN:DAYLIGHT
TZOFFSETFROM:+0100
TZOFFSETTO:+0200
TZNAME:CEST
DTSTART:20140330T010000
END:DAYLIGHT
BEGIN:STANDARD
TZOFFSETFROM:+0200
TZOFFSETTO:+0100
TZNAME:CET
DTSTART:20141026T010000
END:STANDARD
BEGIN:DAYLIGHT
TZOFFSETFROM:+0100
TZOFFSETTO:+0200
TZNAME:CEST
DTSTART:20150329T010000
END:DAYLIGHT
BEGIN:STANDARD
TZOFFSETFROM:+0200
TZOFFSETTO:+0100
TZNAME:CET
DTSTART:20151025T010000
END:STANDARD
BEGIN:DAYLIGHT
TZOFFSETFROM:+0100
TZOFFSETTO:+0200
TZNAME:CEST
DTSTART:20160327T010000
END:DAYLIGHT
BEGIN:STANDARD
TZOFFSETFROM:+0200
TZOFFSETTO:+0100
TZNAME:CET
DTSTART:20161030T010000
END:STANDARD
END:VTIMEZONE
BEGIN:VEVENT
DTSTART;VALUE=DATE:20150518
DTEND;VALUE=DATE:20150521
DTSTAMP:20260423T172042
CREATED:20150517T220000Z
LAST-MODIFIED:20160129T080524Z
UID:304-1431907200-1432166399@www.bijniernet.nl
SUMMARY:Health 2.0 Europe 2015 – May 18-20 in Barcelona
DESCRIPTION:Early Bird Registration Is Now Open!\nThe 5th annual Health 2.0 Europe was a great success with over 510 delegates\, 130 speakers\, 100 live demos\, over 35 digital health investors\, a post-conference session on Patients 2.0 – Fill The Gap\, a special GET Funded session for investors interested in digital health\, and a workshop hosted by Mad*Pow on design for engagement. More importantly\, we had an amazing time showcasing the latest in health technology\, taking part in thought-provoking discussions and witnessing a high level of networking coming together at the event. \nGood news is that registration is open for the smart early birds planning to be part of Health 2.0 Europe 2015 – May 18-20 in Barcelona. Keynote speakers include: \nRichard BRADY\nStart-up Owner\, App Developer and Specialty Registrar in General Surgery\nUnited Kingdom \nMike LEE\nCEO\, Myfitnesspal\nUnited States\nRead the interview of Mike Lee by Health 2.0 CEO Indu Subaiya. \nJoan CORNET\nDirector\, mHealth Competence Center Mobile World Capital Barcelona\nSpain \nUwe DIEGEL\nPresident\, iHealthLabs Europe\nFrance \nRegister here
URL:https://www.bijniernet.nl/agenda/health-2-0-europe-2015-may-18-20-barcelona/
LOCATION:Onbenoemde locatie\, Barcelona\, Spanje
CATEGORIES:Evenementen,Wereldwijd
ATTACH;FMTTYPE=image/png:https://www.bijniernet.nl/wp-content/uploads/2016/01/Afsluiter.png
END:VEVENT
END:VCALENDAR