BEGIN:VCALENDAR
VERSION:2.0
PRODID:-//BijnierNET - ECPv6.15.20//NONSGML v1.0//EN
CALSCALE:GREGORIAN
METHOD:PUBLISH
X-WR-CALNAME:BijnierNET
X-ORIGINAL-URL:https://www.bijniernet.nl
X-WR-CALDESC:Evenementen voor BijnierNET
REFRESH-INTERVAL;VALUE=DURATION:PT1H
X-Robots-Tag:noindex
X-PUBLISHED-TTL:PT1H
BEGIN:VTIMEZONE
TZID:Europe/Amsterdam
BEGIN:DAYLIGHT
TZOFFSETFROM:+0100
TZOFFSETTO:+0200
TZNAME:CEST
DTSTART:20180325T010000
END:DAYLIGHT
BEGIN:STANDARD
TZOFFSETFROM:+0200
TZOFFSETTO:+0100
TZNAME:CET
DTSTART:20181028T010000
END:STANDARD
BEGIN:DAYLIGHT
TZOFFSETFROM:+0100
TZOFFSETTO:+0200
TZNAME:CEST
DTSTART:20190331T010000
END:DAYLIGHT
BEGIN:STANDARD
TZOFFSETFROM:+0200
TZOFFSETTO:+0100
TZNAME:CET
DTSTART:20191027T010000
END:STANDARD
BEGIN:DAYLIGHT
TZOFFSETFROM:+0100
TZOFFSETTO:+0200
TZNAME:CEST
DTSTART:20200329T010000
END:DAYLIGHT
BEGIN:STANDARD
TZOFFSETFROM:+0200
TZOFFSETTO:+0100
TZNAME:CET
DTSTART:20201025T010000
END:STANDARD
END:VTIMEZONE
BEGIN:VEVENT
DTSTART;TZID=Europe/Amsterdam:20190319T183000
DTEND;TZID=Europe/Amsterdam:20190319T213000
DTSTAMP:20260423T184359
CREATED:20190111T124509Z
LAST-MODIFIED:20190212T114348Z
UID:10846-1553020200-1553031000@www.bijniernet.nl
SUMMARY:19/03 Regionale bijeenkomst: Wat is goede zorg voor mensen met een bijnieraandoening?
DESCRIPTION:Op dinsdagavond 19 maart 2019 wordt een bijeenkomst georganiseerd met de titel “Wat is goede zorg voor mensen met een bijnieraandoening?” \nInformatie over het programma vindt u bij de “Patiëntendagen”. \nLeden van de Bijniervereniging NVACP ontvangen hierover een mail. \nDe zaal heeft ruimte voor maximaal 100 deelnemers. \nAanmelden
URL:https://www.bijniernet.nl/agenda/regionale-bijeenkomst-wat-is-goede-zorg-voor-mensen-met-een-bijnieraandoening/
LOCATION:Isala Ziekenhuis Zwolle\, Dokter van Heesweg 2\, Zwolle\, 8025 AB\, Nederland
CATEGORIES:Congres
ATTACH;FMTTYPE=image/png:https://www.bijniernet.nl/wp-content/uploads/2016/01/Afsluiter.png
END:VEVENT
END:VCALENDAR