BEGIN:VCALENDAR
VERSION:2.0
PRODID:-//BijnierNET - ECPv6.15.20//NONSGML v1.0//EN
CALSCALE:GREGORIAN
METHOD:PUBLISH
X-ORIGINAL-URL:https://www.bijniernet.nl
X-WR-CALDESC:Evenementen voor BijnierNET
REFRESH-INTERVAL;VALUE=DURATION:PT1H
X-Robots-Tag:noindex
X-PUBLISHED-TTL:PT1H
BEGIN:VTIMEZONE
TZID:Europe/Amsterdam
BEGIN:DAYLIGHT
TZOFFSETFROM:+0100
TZOFFSETTO:+0200
TZNAME:CEST
DTSTART:20170326T010000
END:DAYLIGHT
BEGIN:STANDARD
TZOFFSETFROM:+0200
TZOFFSETTO:+0100
TZNAME:CET
DTSTART:20171029T010000
END:STANDARD
BEGIN:DAYLIGHT
TZOFFSETFROM:+0100
TZOFFSETTO:+0200
TZNAME:CEST
DTSTART:20180325T010000
END:DAYLIGHT
BEGIN:STANDARD
TZOFFSETFROM:+0200
TZOFFSETTO:+0100
TZNAME:CET
DTSTART:20181028T010000
END:STANDARD
BEGIN:DAYLIGHT
TZOFFSETFROM:+0100
TZOFFSETTO:+0200
TZNAME:CEST
DTSTART:20190331T010000
END:DAYLIGHT
BEGIN:STANDARD
TZOFFSETFROM:+0200
TZOFFSETTO:+0100
TZNAME:CET
DTSTART:20191027T010000
END:STANDARD
END:VTIMEZONE
BEGIN:VEVENT
DTSTART;TZID=Europe/Amsterdam:20181120T080000
DTEND;TZID=Europe/Amsterdam:20181120T170000
DTSTAMP:20260424T031313
CREATED:20181120T112906Z
LAST-MODIFIED:20181120T112906Z
UID:10140-1542700800-1542733200@www.bijniernet.nl
SUMMARY:30/11 Presentatie congres "Heel de bijnier!"
DESCRIPTION:Symposium georganiseerd door de Nederlandse Vereniging voor Heelkunde\, werkgroep Endocriene geneeskunde\, bedoeld voor de leden van deze vereniging. \nBijnierNET verzorgt een presentatie onder de noemer: “Dicht bij huis als het kan\, verder weg als het moet”.
URL:https://www.bijniernet.nl/agenda/30-11-presentatie-congres-heel-de-bijnier/
CATEGORIES:Congres
ATTACH;FMTTYPE=image/png:https://www.bijniernet.nl/wp-content/uploads/2016/01/Afsluiter.png
END:VEVENT
END:VCALENDAR