BEGIN:VCALENDAR
VERSION:2.0
PRODID:-//BijnierNET - ECPv6.15.20//NONSGML v1.0//EN
CALSCALE:GREGORIAN
METHOD:PUBLISH
X-ORIGINAL-URL:https://www.bijniernet.nl
X-WR-CALDESC:Evenementen voor BijnierNET
REFRESH-INTERVAL;VALUE=DURATION:PT1H
X-Robots-Tag:noindex
X-PUBLISHED-TTL:PT1H
BEGIN:VTIMEZONE
TZID:Europe/Amsterdam
BEGIN:DAYLIGHT
TZOFFSETFROM:+0100
TZOFFSETTO:+0200
TZNAME:CEST
DTSTART:20150329T010000
END:DAYLIGHT
BEGIN:STANDARD
TZOFFSETFROM:+0200
TZOFFSETTO:+0100
TZNAME:CET
DTSTART:20151025T010000
END:STANDARD
BEGIN:DAYLIGHT
TZOFFSETFROM:+0100
TZOFFSETTO:+0200
TZNAME:CEST
DTSTART:20160327T010000
END:DAYLIGHT
BEGIN:STANDARD
TZOFFSETFROM:+0200
TZOFFSETTO:+0100
TZNAME:CET
DTSTART:20161030T010000
END:STANDARD
BEGIN:DAYLIGHT
TZOFFSETFROM:+0100
TZOFFSETTO:+0200
TZNAME:CEST
DTSTART:20170326T010000
END:DAYLIGHT
BEGIN:STANDARD
TZOFFSETFROM:+0200
TZOFFSETTO:+0100
TZNAME:CET
DTSTART:20171029T010000
END:STANDARD
END:VTIMEZONE
BEGIN:VEVENT
DTSTART;VALUE=DATE:20161119
DTEND;VALUE=DATE:20161120
DTSTAMP:20260425T225646
CREATED:20160810T065053Z
LAST-MODIFIED:20160810T065053Z
UID:4104-1479513600-1479599999@www.bijniernet.nl
SUMMARY:19/11 - Symposium Nederlandse Hypofyse Stichting
DESCRIPTION:Het grote jubileumcongres vindt plaatst op 19 november 2016. Hoogleraar Ad Hermus\, tevens voorzitter van BijnierNET\, is een van de uitgenodigde sprekers. Meer informatie is te vinden op de site van de Hypofyse Stichting. \n 
URL:https://www.bijniernet.nl/agenda/1911-symposium-nederlandse-hypofyse-stichting/
LOCATION:Congrescentrum NBC Nieuwegein\, Blokhoeve 1\, Nieuwegein\, 3438 LC\, Nederland
CATEGORIES:Congres
ATTACH;FMTTYPE=image/png:https://www.bijniernet.nl/wp-content/uploads/2016/01/Afsluiter.png
END:VEVENT
END:VCALENDAR